BEGIN:VCALENDAR
VERSION:2.0
PRODID:-//Stanley Park Camp Grounds - ECPv6.15.20//NONSGML v1.0//EN
CALSCALE:GREGORIAN
METHOD:PUBLISH
X-ORIGINAL-URL:https://stanleyparkcampgrounds.com
X-WR-CALDESC:Events for Stanley Park Camp Grounds
REFRESH-INTERVAL;VALUE=DURATION:PT1H
X-Robots-Tag:noindex
X-PUBLISHED-TTL:PT1H
BEGIN:VTIMEZONE
TZID:UTC
BEGIN:STANDARD
TZOFFSETFROM:+0000
TZOFFSETTO:+0000
TZNAME:UTC
DTSTART:20250101T000000
END:STANDARD
END:VTIMEZONE
BEGIN:VEVENT
DTSTART;TZID=UTC:20260718T190000
DTEND;TZID=UTC:20260718T203000
DTSTAMP:20260423T022249
CREATED:20240810T070043Z
LAST-MODIFIED:20260104T192838Z
UID:356-1784401200-1784406600@stanleyparkcampgrounds.com
SUMMARY:Adult Scavenger Hunt
DESCRIPTION:Yet to be organized
URL:https://stanleyparkcampgrounds.com/event/adult-scavenger-hunt/
LOCATION:Stanley Park Camp Grounds\, 1702 Monument Rd\, Spring Bay\, ON P0P 2B0\, Spring Bay\, Ontario\, Canada
END:VEVENT
END:VCALENDAR