BEGIN:VCALENDAR
VERSION:2.0
PRODID:-//Stanley Park Camp Grounds - ECPv6.15.20//NONSGML v1.0//EN
CALSCALE:GREGORIAN
METHOD:PUBLISH
X-WR-CALNAME:Stanley Park Camp Grounds
X-ORIGINAL-URL:https://stanleyparkcampgrounds.com
X-WR-CALDESC:Events for Stanley Park Camp Grounds
REFRESH-INTERVAL;VALUE=DURATION:PT1H
X-Robots-Tag:noindex
X-PUBLISHED-TTL:PT1H
BEGIN:VTIMEZONE
TZID:UTC
BEGIN:STANDARD
TZOFFSETFROM:+0000
TZOFFSETTO:+0000
TZNAME:UTC
DTSTART:20250101T000000
END:STANDARD
END:VTIMEZONE
BEGIN:VEVENT
DTSTART;TZID=UTC:20260704T090000
DTEND;TZID=UTC:20260704T120000
DTSTAMP:20260423T083536
CREATED:20260104T195255Z
LAST-MODIFIED:20260104T195255Z
UID:812-1783155600-1783166400@stanleyparkcampgrounds.com
SUMMARY:Camp Wide Yard Sale
DESCRIPTION:Hold a mini yard sale at your site. Walk around the campground and see the other mini yard sales.
URL:https://stanleyparkcampgrounds.com/event/camp-wide-yard-sale/
END:VEVENT
BEGIN:VEVENT
DTSTART;TZID=UTC:20260516T130000
DTEND;TZID=UTC:20260517T190000
DTSTAMP:20260423T083536
CREATED:20260104T195434Z
LAST-MODIFIED:20260104T195434Z
UID:814-1778936400-1779044400@stanleyparkcampgrounds.com
SUMMARY:Long Weekend Fun Day\, and Draw
DESCRIPTION:Games day in the field for the children and children at heart. Unfortunately the weather will control if we are able to hold the games. We welcome back our draws this year. If your seasonal is paid in full and all required documents are signed prior to May 17th\, 2026 your name will go into a draw for some great prizes.
URL:https://stanleyparkcampgrounds.com/event/long-weekend-fun-day-and-draw/
END:VEVENT
END:VCALENDAR