BEGIN:VCALENDAR
VERSION:2.0
PRODID:-//Stanley Park Camp Grounds - ECPv6.15.20//NONSGML v1.0//EN
CALSCALE:GREGORIAN
METHOD:PUBLISH
X-WR-CALNAME:Stanley Park Camp Grounds
X-ORIGINAL-URL:https://stanleyparkcampgrounds.com
X-WR-CALDESC:Events for Stanley Park Camp Grounds
REFRESH-INTERVAL;VALUE=DURATION:PT1H
X-Robots-Tag:noindex
X-PUBLISHED-TTL:PT1H
BEGIN:VTIMEZONE
TZID:UTC
BEGIN:STANDARD
TZOFFSETFROM:+0000
TZOFFSETTO:+0000
TZNAME:UTC
DTSTART:20250101T000000
END:STANDARD
END:VTIMEZONE
BEGIN:VEVENT
DTSTART;TZID=UTC:20260801T183000
DTEND;TZID=UTC:20260801T203000
DTSTAMP:20260423T063813
CREATED:20250801T063033Z
LAST-MODIFIED:20260104T193643Z
UID:358-1785609000-1785616200@stanleyparkcampgrounds.com
SUMMARY:Halloween
DESCRIPTION:Costume Contests for all ages\, Trick or Treating\, Best Decorated Trailer Contest
URL:https://stanleyparkcampgrounds.com/event/halloween/
LOCATION:Stanley Park Camp Grounds\, 1702 Monument Rd\, Spring Bay\, ON P0P 2B0\, Spring Bay\, Ontario\, Canada
ATTACH;FMTTYPE=image/jpeg:https://stanleyparkcampgrounds.com/wp-content/uploads/2025/08/halloween-2026-scaled.jpg
END:VEVENT
BEGIN:VEVENT
DTSTART;VALUE=DATE:20260829
DTEND;VALUE=DATE:20260830
DTSTAMP:20260423T063813
CREATED:20200930T070442Z
LAST-MODIFIED:20260104T192733Z
UID:360-1787961600-1788047999@stanleyparkcampgrounds.com
SUMMARY:Annual Golf Tournament/PotLuck
DESCRIPTION:Best Ball Golf Tournament\, Pot Luck 5:30\, Fun Mystery Gift Exchange
URL:https://stanleyparkcampgrounds.com/event/annual-golf-tournament/
ATTACH;FMTTYPE=image/jpeg:https://stanleyparkcampgrounds.com/wp-content/uploads/2020/09/golf-2025-scaled.jpg
END:VEVENT
END:VCALENDAR